BEGIN:VCALENDAR
VERSION:2.0
PRODID:spatie/icalendar-generator
DESCRIPTION:Events from Portslade Hedgehoppers
X-WR-CALDESC:Events from Portslade Hedgehoppers
REFRESH-INTERVAL;VALUE=DURATION:PT1440M
X-PUBLISHED-TTL:PT1440M
BEGIN:VTIMEZONE
TZID:Etc/GMT+0
BEGIN:STANDARD
DTSTART:20250813T110000Z
TZOFFSETFROM:+0000
TZOFFSETTO:+0000
END:STANDARD
END:VTIMEZONE
BEGIN:VTIMEZONE
TZID:UTC
BEGIN:STANDARD
DTSTART:20250726T122648Z
TZOFFSETFROM:+0000
TZOFFSETTO:+0000
END:STANDARD
END:VTIMEZONE
BEGIN:VEVENT
UID:475-418
DTSTAMP:20260422T122648Z
SUMMARY:WSFRL Hedgehopper 5
LOCATION:Portslade Sports Centre Outside building  Portslade  BN41 2WS
ORGANIZER;CN=Jo:MAILTO:joanna.mabbitt@hotmail.co.uk
DTSTART;TZID=Etc/GMT+0:20260510T110000
DTEND;TZID=Etc/GMT+0:20260510T120000
X-ALT-DESC;FMTTYPE=TEXT/HTML:New club members: we would encourage you to ta
 ke part in the race in your first year\, so that in future years you'll be
  familiar with the route and hopefully will be happy to volunteer.  Pleas
 e let Val know if you'd like to enter.
CATEGORIES:WSFRL
URL;VALUE=URI:https://portsladehedgehoppers.com/events/wsfrl-hedgehopper-5-
 3/
METHOD:PUBLISH
END:VEVENT
END:VCALENDAR