BEGIN:VCALENDAR
VERSION:2.0
PRODID:spatie/icalendar-generator
DESCRIPTION:Events from Portslade Hedgehoppers
X-WR-CALDESC:Events from Portslade Hedgehoppers
REFRESH-INTERVAL;VALUE=DURATION:PT1440M
X-PUBLISHED-TTL:PT1440M
BEGIN:VTIMEZONE
TZID:Etc/GMT+0
BEGIN:STANDARD
DTSTART:20250729T090000Z
TZOFFSETFROM:+0000
TZOFFSETTO:+0000
END:STANDARD
END:VTIMEZONE
BEGIN:VTIMEZONE
TZID:UTC
BEGIN:STANDARD
DTSTART:20250726T091454Z
TZOFFSETFROM:+0000
TZOFFSETTO:+0000
END:STANDARD
END:VTIMEZONE
BEGIN:VEVENT
UID:496-439
DTSTAMP:20260422T091454Z
SUMMARY:Peacehaven parkrun
LOCATION:Peacehaven parkrun Centenary Park\, Piddinghoe Avenue  Peacehaven 
  BN10 8RJ
ORGANIZER;CN=Jo:MAILTO:joanna.mabbitt@hotmail.co.uk
DTSTART;TZID=Etc/GMT+0:20260425T090000
DTEND;TZID=Etc/GMT+0:20260425T100000
X-ALT-DESC;FMTTYPE=TEXT/HTML:Part of our club Grand Prix event: https://por
 tsladehedgehoppers.com/parkrun-grand-prix/ Full details of the course and 
 parking available here: https://www.parkrun.org.uk/peacehaven/
CATEGORIES:parkrun Grand Prix,  Portslade Gold Cup
URL;VALUE=URI:https://portsladehedgehoppers.com/events/peacehaven-parkrun-2
 /
METHOD:PUBLISH
END:VEVENT
END:VCALENDAR